BEGIN:VCALENDAR
BEGIN:VEVENT
SUMMARY:Memory Pump: Kilbourne\, Hatechild.\, DJ Lotos\, Torrentz [nycnois
 e]
DTSTART:20250510T010000Z
DTEND:20250510T020000Z
UID:b330b2f8-7289-47c3-80ba-f43cef054ca6
CREATED:20260420T145421Z
DESCRIPTION:
LOCATION:beverly's (297 Grand St\, New York\, NY 10002)
END:VEVENT
END:VCALENDAR
