BEGIN:VCALENDAR
BEGIN:VEVENT
SUMMARY:Matei Predescu / Paul Pandit / Chase Elodia [nycnoise]
DTSTART:20250619T010000Z
DTEND:20250619T020000Z
UID:576db848-1098-4e7b-affc-fd31822e7050
CREATED:20260420T145603Z
DESCRIPTION:
LOCATION:dada (6047 Myrtle Ave\, Queens\, NY 11385)
END:VEVENT
END:VCALENDAR
