BEGIN:VCALENDAR
BEGIN:VEVENT
SUMMARY:Distant Pairs Live: Eden Girma\, Madison Greenstone\, Suzanne Thor
 pe [nycnoise]
DTSTART:20250511T000000Z
DTEND:20250511T010000Z
UID:2051458a-c5c1-4b10-8106-3e8abaa9460e
CREATED:20260420T145208Z
DESCRIPTION:
LOCATION:issue project room (22 boerum place\, brooklyn)
END:VEVENT
END:VCALENDAR
