BEGIN:VCALENDAR
BEGIN:VEVENT
SUMMARY:Moon Bath: Josi Arias Sound Meditation [nycnoise]
DTSTART:20250511T220000Z
DTEND:20250511T230000Z
UID:cc539a3f-98d0-4376-8567-a64131cc595e
CREATED:20260420T145419Z
DESCRIPTION:🇵🇸 PACBI +++ "bring your own mat\, no one admitted after
  7pm"
LOCATION:intercomm (584 Woodward Ave\, Ridgewood\, NY 11385)
END:VEVENT
END:VCALENDAR
