BEGIN:VCALENDAR
BEGIN:VEVENT
SUMMARY:Long Gong: Sphente\, HERE [nycnoise]
DTSTART:20250514T000000Z
DTEND:20250514T010000Z
UID:4dde0fea-1610-45f8-81ba-d79eb7c061bf
CREATED:20260420T145204Z
DESCRIPTION:
LOCATION:nowadays (56-06 cooper ave\, ridgewood)
END:VEVENT
END:VCALENDAR
