BEGIN:VCALENDAR
BEGIN:VEVENT
SUMMARY:The Bender: Gabalicious\, Waddle\, Bend'um\, Ogd b2b Odd_world\, F
 i-Lo b2b Tyben [nycnoise]
DTSTART:20250513T020000Z
DTEND:20250513T030000Z
UID:afb9cd50-7de1-4852-97e9-fd3a816dcc08
CREATED:20260420T145245Z
DESCRIPTION:🇵🇸 PACBI
LOCATION:bossa nova civic club (1271 myrtle ave\, brooklyn)
END:VEVENT
END:VCALENDAR
