BEGIN:VCALENDAR
BEGIN:VEVENT
SUMMARY:Pataphysics 014: Joshue Ott\, Ezekiel Honig\, Todd Polenberg\, Sea
 n Smith [nycnoise]
DTSTART:20250518T000000Z
DTEND:20250518T010000Z
UID:080e5dd6-ffaa-4b0f-825d-3fb2f6a52a84
CREATED:20260420T145248Z
DESCRIPTION:"a/v... ambient\, experimental... psychedelic &amp\; avant-gar
 de\," shoes off
LOCATION:delight factory (303 Saratoga Ave\, Brooklyn\, NY 11233)
END:VEVENT
END:VCALENDAR
