BEGIN:VCALENDAR
BEGIN:VEVENT
SUMMARY:Batalá\, Ogäd\, Sadaf\, Dj Rocka [nycnoise]
DTSTART:20250522T230000Z
DTEND:20250523T000000Z
UID:5529f313-f80b-41b0-9f9f-136ef1087732
CREATED:20260420T145414Z
DESCRIPTION:
LOCATION:nublu 151 (151 ave c\, manhattan)
END:VEVENT
END:VCALENDAR
