BEGIN:VCALENDAR
BEGIN:VEVENT
SUMMARY:Taleen Kali\, Russian Baths\, Spirits of Leo\, Heaven [nycnoise]
DTSTART:20250529T000000Z
DTEND:20250529T010000Z
UID:12177cf1-b28a-440f-90d5-c7d1dd6312a0
CREATED:20260420T145543Z
DESCRIPTION:🇵🇸 PACBI
LOCATION:purgatory (675 central ave\, brooklyn)
END:VEVENT
END:VCALENDAR
