BEGIN:VCALENDAR
BEGIN:VEVENT
SUMMARY:LoveTrane (Eric Plaks\, Ayumi Ishito\, Zach Swanson\, Jon Panikkar
 ) [nycnoise]
DTSTART:20250514T010000Z
DTEND:20250514T020000Z
UID:c57c01ec-becf-4d68-9c66-2e696bd94e38
CREATED:20260420T145250Z
DESCRIPTION:playing coltrane's Mr. Day\, Mr. Knight\, Mr. P.C.\, &amp\; Mr
 . Syms
LOCATION:shrine (2271 adam clayton powell jr. blvd (at 134th)\, manhattan)
END:VEVENT
END:VCALENDAR
