BEGIN:VCALENDAR
BEGIN:VEVENT
SUMMARY:Altimetry\, Corset Lore\, Challice\, Cities Unexpected Field (fka 
 Joan La Perish) [nycnoise]
DTSTART:20250523T000000Z
DTEND:20250523T010000Z
UID:81644fe6-d8b4-4299-92c3-83edfb001400
CREATED:20260420T145418Z
DESCRIPTION:7:30pm doors
LOCATION:main drag (before oct 2025) (50 s. 1st st.\, brooklyn)
END:VEVENT
END:VCALENDAR
