BEGIN:VCALENDAR
BEGIN:VEVENT
SUMMARY:Caitlin Starr\, Femcel\, Holiem\, Joudy [nycnoise]
DTSTART:20250601T000000Z
DTEND:20250601T010000Z
UID:f7e83d5d-ffe2-45a4-8a33-06f4b661827a
CREATED:20260420T145138Z
DESCRIPTION:7:30pm doors
LOCATION:main drag (before oct 2025) (50 s. 1st st.\, brooklyn)
END:VEVENT
END:VCALENDAR
