BEGIN:VCALENDAR
BEGIN:VEVENT
SUMMARY:Inferno: The Pale Hand\, Tower\, Holy Wisdom LLC [nycnoise]
DTSTART:20250516T233000Z
DTEND:20250517T003000Z
UID:96ed375b-c1b4-4ad0-821f-74e9c4418dd7
CREATED:20260420T145201Z
DESCRIPTION:
LOCATION:rubulad
END:VEVENT
END:VCALENDAR
