BEGIN:VCALENDAR
BEGIN:VEVENT
SUMMARY:Jake Messina Meginsky\, Bill Nace & samara lubelski\, Talullah Cal
 derwood [nycnoise]
DTSTART:20250524T230000Z
DTEND:20250525T000000Z
UID:0716ce00-d8b5-4dcf-85f1-472f8a217d93
CREATED:20260420T145420Z
DESCRIPTION:
LOCATION:stone circle at ridgewood presby (59-14 70th ave\, ridgewood)
END:VEVENT
END:VCALENDAR
