BEGIN:VCALENDAR
BEGIN:VEVENT
SUMMARY:Kathryn Mohr\, Oldest Sea\, Cementation Anxiety\, Lea Jaffe [nycno
 ise]
DTSTART:20250606T230000Z
DTEND:20250607T000000Z
UID:a8e78d12-3fce-44de-b156-fbe724d25b96
CREATED:20260420T145504Z
DESCRIPTION:
LOCATION:stone circle at ridgewood presby (59-14 70th ave\, ridgewood)
END:VEVENT
END:VCALENDAR
