BEGIN:VCALENDAR
BEGIN:VEVENT
SUMMARY:Exoskeleton 12: Dot Iso + 1 (Vivek Menon\, Orchid McRae\, Dylan De
 lgiudice ft. Marc Edwards)\, Stovepipe & Matei Predescu\, Noah Stoneman Tr
 io (w/ Felix Moseholm\, Jacob Patrone) [nycnoise]
DTSTART:20250530T230000Z
DTEND:20250531T000000Z
UID:97c8e714-2505-42f6-a9c5-04eb119e2aae
CREATED:20260420T145248Z
DESCRIPTION:🇵🇸 PACBI
LOCATION:brothers wash & dry laundromat (5420 nurge ave\, queens)
END:VEVENT
END:VCALENDAR
