BEGIN:VCALENDAR
BEGIN:VEVENT
SUMMARY:Prospect Series / house show #48: Kenneth Jimenez / Laura Cocks / 
 Rocío Sánchez\, Jack Langdon [nycnoise]
DTSTART:20250621T000000Z
DTEND:20250621T010000Z
UID:e3da0cf3-9c89-463c-b654-08f71beb6895
CREATED:20260420T145414Z
DESCRIPTION:7:30pm doors
LOCATION:prospect series apt (1923 8th ave (corner of 20th st.)\, south sl
 ope\, bklyn)
END:VEVENT
END:VCALENDAR
