BEGIN:VCALENDAR
BEGIN:VEVENT
SUMMARY:nwa: a biomythographic rendering of x (Lester St. Louis / HxH / Ar
 mand Hammer / Bongowattz) [nycnoise]
DTSTART:20250520T000000Z
DTEND:20250520T010000Z
UID:8392e498-3e3a-481b-9d25-9cbde440365e
CREATED:20260420T145507Z
DESCRIPTION:7pm / $30 doors
LOCATION:roulette (509 atlantic ave\, brooklyn)
END:VEVENT
END:VCALENDAR
