BEGIN:VCALENDAR
BEGIN:VEVENT
SUMMARY:Noble Beast\, Salt\, Oldstar\, Financial Collapse [nycnoise]
DTSTART:20250512T230000Z
DTEND:20250513T000000Z
UID:72fddb09-85c2-497d-8619-e2f1c113c505
CREATED:20260420T145332Z
DESCRIPTION:🇵🇸 PACBI
LOCATION:brothers wash & dry laundromat (5420 nurge ave\, queens)
END:VEVENT
END:VCALENDAR
