BEGIN:VCALENDAR
BEGIN:VEVENT
SUMMARY:Stan Zenkov / Erin Rogers / Paul Sakai / Caroline Morton\, Chris C
 ochrane / Nate Wooley / James Ilgenfritz / Andrew Drury [nycnoise]
DTSTART:20250516T220000Z
DTEND:20250516T230000Z
UID:4e020565-65f9-476f-9978-120bcdb4c53d
CREATED:20260420T145459Z
DESCRIPTION:🇵🇸 PACBI
LOCATION:p.i.t. (property is theft) (411 s. 5th st.\, brooklyn)
END:VEVENT
END:VCALENDAR
