BEGIN:VCALENDAR
BEGIN:VEVENT
SUMMARY:Desire Garage: Cassandra Jenkins\, Aaron Roche\, Johann Diedrick\,
  Marisa Nakasone\, Jake Brush\, Davide Balula\, Charlie Gangemi\, Max Levi
 n [nycnoise]
DTSTART:20250518T200000Z
DTEND:20250518T210000Z
UID:bab96832-0613-4075-ba47-6c48ab4583d3
CREATED:20260420T145340Z
DESCRIPTION:link to flyer\; "music\, performance\, conversation ... in sup
 port of Wyatt Bertz exhibition\," curated by Max Levin &amp\; Bertz
LOCATION:stephen street gallery (1679 Stephen St\, Ridgewood\, NY 11385)
END:VEVENT
END:VCALENDAR
