BEGIN:VCALENDAR
BEGIN:VEVENT
SUMMARY:Best Friends Ambient Music & Poetry: LEFT POP\, AMBNT MNDLN\, & mo
 re [nycnoise]
DTSTART:20250515T233000Z
DTEND:20250516T003000Z
UID:c83d7620-fa97-4121-adae-32313a26425f
CREATED:20260420T145416Z
DESCRIPTION:
LOCATION:bar freda (801 seneca ave\, ridgewood)
END:VEVENT
END:VCALENDAR
