BEGIN:VCALENDAR
BEGIN:VEVENT
SUMMARY:MADNESS OF (KYRUH b2b WTCHCRFT)\, Sami Zreik [nycnoise]
DTSTART:20250516T020000Z
DTEND:20250516T030000Z
UID:93906491-0774-4e34-ad76-b4576612bf72
CREATED:20260420T145352Z
DESCRIPTION:🇵🇸 PACBI
LOCATION:bossa nova civic club (1271 myrtle ave\, brooklyn)
END:VEVENT
END:VCALENDAR
