BEGIN:VCALENDAR
BEGIN:VEVENT
SUMMARY:SIMPULSO 008: Don Esquivel\, ALEXIS DE LA ROSA\, Sterling Juan Dia
 z [nycnoise]
DTSTART:20250517T020000Z
DTEND:20250517T030000Z
UID:cf9dd2e7-b032-4933-bea3-9a4b2c7a54e4
CREATED:20260420T145457Z
DESCRIPTION:🇵🇸 PACBI
LOCATION:bossa nova civic club (1271 myrtle ave\, brooklyn)
END:VEVENT
END:VCALENDAR
