BEGIN:VCALENDAR
BEGIN:VEVENT
SUMMARY:dsleepover: dominique\, Ka & Camilla\, Qasim Naqvi\, Adrian Rew\, 
 KG / fieldtalk [nycnoise]
DTSTART:20250517T230000Z
DTEND:20250518T000000Z
UID:14e2678f-29df-41eb-8549-7dd6aad66c9a
CREATED:20260420T145412Z
DESCRIPTION:🇵🇸 PACBI +++ "byo sleeping bags &amp\; mats encouraged. 
 dinner is served at sundown\, &amp\; breakfast at sunup."
LOCATION:light & sound design
END:VEVENT
END:VCALENDAR
