BEGIN:VCALENDAR
BEGIN:VEVENT
SUMMARY:ESP-Disk 60th Anniversary Salon Series: Thollem McDonas Solo & Tri
 o (w/ Hill Greene\, Marc Edwards) [nycnoise]
DTSTART:20250524T000000Z
DTEND:20250524T010000Z
UID:6202981d-883a-446f-813b-0c6791193e19
CREATED:20260420T145256Z
DESCRIPTION:"jazz!!!" (submission form note\, made me lol)
LOCATION:loove labs (58 n. 6th st.\, brooklyn)
END:VEVENT
END:VCALENDAR
