BEGIN:VCALENDAR
BEGIN:VEVENT
SUMMARY:Pain Annihilator\, DJ Beach Balls (Justin Frye) [nycnoise]
DTSTART:20250525T003000Z
DTEND:20250525T013000Z
UID:09623778-d167-4ed7-bba4-e1d9d7b2b68b
CREATED:20260420T145357Z
DESCRIPTION:link's to flyer\; i took out the "of PC Worship" cuz you alrea
 dy know justin
LOCATION:ore bar (277 Graham Ave\, Brooklyn\, NY 11211)
END:VEVENT
END:VCALENDAR
