BEGIN:VCALENDAR
BEGIN:VEVENT
SUMMARY:Gates / Dunn / Fox\, Microwaves\, Zachary Blakeslee Quartet [nycno
 ise]
DTSTART:20250526T000000Z
DTEND:20250526T010000Z
UID:837fbada-2a8c-4056-b121-917f2731ab6e
CREATED:20260420T145424Z
DESCRIPTION:
LOCATION:bar freda (801 seneca ave\, ridgewood)
END:VEVENT
END:VCALENDAR
