BEGIN:VCALENDAR
BEGIN:VEVENT
SUMMARY:Maria Valencia / Matt Moran / Brandon Lopez\, TBA [nycnoise]
DTSTART:20250606T220000Z
DTEND:20250606T230000Z
UID:93802ff8-1108-4a31-beda-a3e9f834d68b
CREATED:20260420T145605Z
DESCRIPTION:🇵🇸 PACBI +++ full info asap
LOCATION:p.i.t. (property is theft) (411 s. 5th st.\, brooklyn)
END:VEVENT
END:VCALENDAR
