BEGIN:VCALENDAR
BEGIN:VEVENT
SUMMARY:Maria Valencia / Ryan Sawyer / Matt Moran / Michael Foster / Brand
 on Lopez\, Ghost Orchid [nycnoise]
DTSTART:20250608T220000Z
DTEND:20250608T230000Z
UID:f8c48bc3-94b6-424d-b704-65391a85b97b
CREATED:20260420T145554Z
DESCRIPTION:🇵🇸 PACBI +++ full info asap
LOCATION:p.i.t. (property is theft) (411 s. 5th st.\, brooklyn)
END:VEVENT
END:VCALENDAR
