BEGIN:VCALENDAR
BEGIN:VEVENT
SUMMARY:The Intelligence & Alice Sandahl\, Behaviorist [nycnoise]
DTSTART:20250613T220000Z
DTEND:20250613T230000Z
UID:eb139488-d7eb-4da7-8b4e-1813ae81a5d2
CREATED:20260420T145417Z
DESCRIPTION:🇵🇸 PACBI
LOCATION:p.i.t. (property is theft) (411 s. 5th st.\, brooklyn)
END:VEVENT
END:VCALENDAR
