BEGIN:VCALENDAR
BEGIN:VEVENT
SUMMARY:Eric Blitz\, Andy Laties [nycnoise]
DTSTART:20250625T220000Z
DTEND:20250625T230000Z
UID:c1f84820-634e-4850-8e34-91fb23ffe0c0
CREATED:20260420T145503Z
DESCRIPTION:🇵🇸 PACBI +++ more info asap
LOCATION:p.i.t. (property is theft) (411 s. 5th st.\, brooklyn)
END:VEVENT
END:VCALENDAR
