BEGIN:VCALENDAR
BEGIN:VEVENT
SUMMARY:Rose Paradise\, TBA [nycnoise]
DTSTART:20250605T233000Z
DTEND:20250606T003000Z
UID:998f8b81-f79e-48d0-b76f-a55d8057cd52
CREATED:20260420T145547Z
DESCRIPTION:🇵🇸 PACBI +++ info asap
LOCATION:record shop (360 van brunt st.\, brooklyn)
END:VEVENT
END:VCALENDAR
