BEGIN:VCALENDAR
BEGIN:VEVENT
SUMMARY:TBA [nycnoise]
DTSTART:20250614T233000Z
DTEND:20250615T003000Z
UID:e4f95998-e58d-44e8-99f0-36b987aa9ba8
CREATED:20260420T145417Z
DESCRIPTION:🇵🇸 PACBI +++ info asap
LOCATION:record shop (360 van brunt st.\, brooklyn)
END:VEVENT
END:VCALENDAR
