BEGIN:VCALENDAR
BEGIN:VEVENT
SUMMARY:Guitar Wormhole: Webb Crawford\, Gían Pérez\, Chuck Roth [nycnoi
 se]
DTSTART:20250601T230000Z
DTEND:20250602T000000Z
UID:128fec69-613d-46e2-ac0e-276000428445
CREATED:20260420T145555Z
DESCRIPTION:🇵🇸 PACBI +++ first sunday = g&iacute\;an's wormhole (sor
 ry that sounds so filthy??)
LOCATION:brothers wash & dry laundromat (5420 nurge ave\, queens)
END:VEVENT
END:VCALENDAR
