BEGIN:VCALENDAR
BEGIN:VEVENT
SUMMARY:Matmos\, foodman\, Giant Claw\, More Eaze [nycnoise]
DTSTART:20250621T220000Z
DTEND:20250621T230000Z
UID:498940b0-a08c-4f6d-a482-21ac1eed5702
CREATED:20260420T145605Z
DESCRIPTION:
LOCATION:ruins at knockdown center (52-19 flushing ave\, maspeth)
END:VEVENT
END:VCALENDAR
