BEGIN:VCALENDAR
BEGIN:VEVENT
SUMMARY:Mdou Moctar\, Body Meat\, duendita [nycnoise]
DTSTART:20250912T220000Z
DTEND:20250912T230000Z
UID:3eaa740f-eeac-4a94-a5d3-11d8e44a540b
CREATED:20260420T163136Z
DESCRIPTION:
LOCATION:ruins at knockdown center (52-19 flushing ave\, maspeth)
END:VEVENT
END:VCALENDAR
