BEGIN:VCALENDAR
BEGIN:VEVENT
SUMMARY:D.A. Crimson (EP Release & Zine Launch)\, Lea Jaffe\, The Cradle [
 nycnoise]
DTSTART:20250520T230000Z
DTEND:20250521T000000Z
UID:d947d1dd-bee9-414a-8b40-7a885c9c1a81
CREATED:20260420T145559Z
DESCRIPTION:
LOCATION:night club 101 (101 avenue a\, manhattan)
END:VEVENT
END:VCALENDAR
