BEGIN:VCALENDAR
BEGIN:VEVENT
SUMMARY:Mun Sing\, Kill Alters\, Rain From Heaven [nycnoise]
DTSTART:20250525T030000Z
DTEND:20250525T040000Z
UID:c1a5e77a-94ec-45d2-a9e4-0a3046cec180
CREATED:20260420T145346Z
DESCRIPTION:
LOCATION:night club 101 (101 avenue a\, manhattan)
END:VEVENT
END:VCALENDAR
