BEGIN:VCALENDAR
BEGIN:VEVENT
SUMMARY:PROBLEMS\, DIE the Monk\, Splinternet\, Shane Shane [nycnoise]
DTSTART:20250520T233000Z
DTEND:20250521T003000Z
UID:2b10d2d5-6a4b-40e7-949f-ecf6a0a645c0
CREATED:20260420T145255Z
DESCRIPTION:7pm doors
LOCATION:berlin (25 ave a\, manhattan)
END:VEVENT
END:VCALENDAR
