BEGIN:VCALENDAR
BEGIN:VEVENT
SUMMARY:Movement Research: Benin Gardner\, Zhangxinan Wu 吴张心安\, Qu
 eer CI Cohort [nycnoise]
DTSTART:20250519T230000Z
DTEND:20250520T000000Z
UID:3ea6a127-2bdd-4725-b4c3-18118368b446
CREATED:20260420T145417Z
DESCRIPTION:QCIC: Quinn Gumbiner\, Emily Jones\, Hannah Krafcik\, Lee Hull
 \, and ara oshin
LOCATION:movement research at judson (55 washington sq south\, manhattan)
END:VEVENT
END:VCALENDAR
