BEGIN:VCALENDAR
BEGIN:VEVENT
SUMMARY:Public Speaking\, PROBLEMS\, Murderpact\, FUCKING MACHINES [nycnoi
 se]
DTSTART:20250523T000000Z
DTEND:20250523T010000Z
UID:534def03-8361-48e7-82a3-a72469b737e5
CREATED:20260420T145342Z
DESCRIPTION:7pm doors
LOCATION:broadway (1272 broadway\, brooklyn)
END:VEVENT
END:VCALENDAR
