BEGIN:VCALENDAR
BEGIN:VEVENT
SUMMARY:Marumari\, Keith Fullerton Whitman\, Skylar Spence\, DJ Todd Hyman
  [nycnoise]
DTSTART:20250522T230000Z
DTEND:20250523T000000Z
UID:35a6db61-bc02-49fb-b99b-0a0170c96dfe
CREATED:20260420T145502Z
DESCRIPTION:
LOCATION:public records' sound room (233 butler st.\, brooklyn)
END:VEVENT
END:VCALENDAR
