BEGIN:VCALENDAR
BEGIN:VEVENT
SUMMARY:Lowballer\, Hard Nips\, Chaser\, Extreme Sports [nycnoise]
DTSTART:20250608T000000Z
DTEND:20250608T010000Z
UID:5906f11b-0481-4e71-89f9-fd8d4ba65bcb
CREATED:20260420T145604Z
DESCRIPTION:
LOCATION:wonderville (1186 broadway\, brooklyn)
END:VEVENT
END:VCALENDAR
