BEGIN:VCALENDAR
BEGIN:VEVENT
SUMMARY:JADALAREIGN\, Mike Servito [nycnoise]
DTSTART:20250520T020000Z
DTEND:20250520T030000Z
UID:5bd849b9-2f26-4543-a45a-3abf1c414b5d
CREATED:20260420T145331Z
DESCRIPTION:🇵🇸 PACBI
LOCATION:bossa nova civic club (1271 myrtle ave\, brooklyn)
END:VEVENT
END:VCALENDAR
