BEGIN:VCALENDAR
BEGIN:VEVENT
SUMMARY:Other Faces (Adam Lutz\, Dan Langa\, Kristian de Leon)\, Zachary M
 ezzo [nycnoise]
DTSTART:20250524T233000Z
DTEND:20250525T003000Z
UID:e8c72cc2-8515-4c0b-ac7c-03c2f2cebe77
CREATED:20260420T145546Z
DESCRIPTION:"very limited seating"
LOCATION:sō percussion's space (20 grand ave\, brooklyn)
END:VEVENT
END:VCALENDAR
