BEGIN:VCALENDAR
BEGIN:VEVENT
SUMMARY:rally: Takuya Nakamura\, GENG PTP\, Petal\, amita [nycnoise]
DTSTART:20250622T030000Z
DTEND:20250622T040000Z
UID:dc41d945-1300-44b4-a93a-2dd8ee6fbcf8
CREATED:20260420T145539Z
DESCRIPTION:
LOCATION:night club 101 (101 avenue a\, manhattan)
END:VEVENT
END:VCALENDAR
