BEGIN:VCALENDAR
BEGIN:VEVENT
SUMMARY:CHROMA: TECHNOSEXUAL: Julien the Cyborg\, The Vudu Doll\, ROBOTRAN
  [nycnoise]
DTSTART:20250524T035900Z
DTEND:20250524T045900Z
UID:7fbc1f48-82af-4b29-9227-4b3a423cdc9e
CREATED:20260420T145213Z
DESCRIPTION:
LOCATION:hart bar (538 hart st.\, brooklyn)
END:VEVENT
END:VCALENDAR
