BEGIN:VCALENDAR
BEGIN:VEVENT
SUMMARY:A Total Wreck\, Dry Ice\, Untitled Noise Night\, Mystery Guest [ny
 cnoise]
DTSTART:20250527T000000Z
DTEND:20250527T010000Z
UID:247f88e2-c1bc-4cf4-b069-316dc50bd62e
CREATED:20260420T145300Z
DESCRIPTION:
LOCATION:hart bar (538 hart st.\, brooklyn)
END:VEVENT
END:VCALENDAR
