BEGIN:VCALENDAR
BEGIN:VEVENT
SUMMARY:Blood Moons\, OBOY!\, The Clots\, Lillirot [nycnoise]
DTSTART:20250616T000000Z
DTEND:20250616T010000Z
UID:d96d7361-5bea-4f02-9e00-ab34248ffb3c
CREATED:20260420T145501Z
DESCRIPTION:
LOCATION:hart bar (538 hart st.\, brooklyn)
END:VEVENT
END:VCALENDAR
